BEGIN:VCALENDAR
VERSION:2.0
PRODID:-//CERN//INDICO//EN
BEGIN:VEVENT
SUMMARY:Introduction to the RegCM4 System\, The ICTP RegCM
DTSTART;VALUE=DATE-TIME:20171003T113000Z
DTEND;VALUE=DATE-TIME:20171003T123000Z
DTSTAMP;VALUE=DATE-TIME:20240229T181839Z
UID:indico-contribution-6@ictp.it
DESCRIPTION:Speakers: GIULIANI\, Graziano (ICTP\, Italy)\n//indico.ictp.it
 /event/7966/session/0/contribution/6
LOCATION: - Georgia
URL://indico.ictp.it/event/7966/session/0/contribution/6
END:VEVENT
END:VCALENDAR
