BEGIN:VCALENDAR
VERSION:2.0
PRODID:-//CERN//INDICO//EN
BEGIN:VEVENT
SUMMARY:Localizing RegCM model
DTSTART;VALUE=DATE-TIME:20171004T070000Z
DTEND;VALUE=DATE-TIME:20171004T083000Z
DTSTAMP;VALUE=DATE-TIME:20240229T181905Z
UID:indico-contribution-9@ictp.it
DESCRIPTION:Speakers: GIULIANI\, Graziano (ICTP\, Italy)\n//indico.ictp.it
 /event/7966/session/1/contribution/9
LOCATION: - Georgia
URL://indico.ictp.it/event/7966/session/1/contribution/9
END:VEVENT
END:VCALENDAR
