BEGIN:VCALENDAR
VERSION:2.0
PRODID:-//CERN//INDICO//EN
BEGIN:VEVENT
SUMMARY:Welcome speech
DTSTART;VALUE=DATE-TIME:20171003T070000Z
DTEND;VALUE=DATE-TIME:20171003T071500Z
DTSTAMP;VALUE=DATE-TIME:20240229T181829Z
UID:indico-contribution-0-0-0@ictp.it
DESCRIPTION:Speakers: THE RECTOR OF BSU\, TAMAR SIRADZE\, VICE RECTOR OF B
 SU\, MARINA KORIDZE\, DEAN OF THE FACULTY OF NATURAL SCIENCES AND HEALTH C
 ARE OF BSU ()\n//indico.ictp.it/event/7966/session/0/contribution/0
LOCATION: - Georgia
URL://indico.ictp.it/event/7966/session/0/contribution/0
END:VEVENT
BEGIN:VEVENT
SUMMARY:Logistic informations
DTSTART;VALUE=DATE-TIME:20171003T071500Z
DTEND;VALUE=DATE-TIME:20171003T072000Z
DTSTAMP;VALUE=DATE-TIME:20240229T181829Z
UID:indico-contribution-0-0-1@ictp.it
DESCRIPTION:Speakers: DIASAMIDZE\, Inga (BSU\, Georgia)\n//indico.ictp.it/
 event/7966/session/0/contribution/1
LOCATION: - Georgia
URL://indico.ictp.it/event/7966/session/0/contribution/1
END:VEVENT
BEGIN:VEVENT
SUMMARY:Goals of the workshop
DTSTART;VALUE=DATE-TIME:20171003T072000Z
DTEND;VALUE=DATE-TIME:20171003T073000Z
DTSTAMP;VALUE=DATE-TIME:20240229T181829Z
UID:indico-contribution-0-0-2@ictp.it
DESCRIPTION:Speakers: MESKHIDZE\, Nicholas (NC State University\, USA)\n//
 indico.ictp.it/event/7966/session/0/contribution/2
LOCATION: - Georgia
URL://indico.ictp.it/event/7966/session/0/contribution/2
END:VEVENT
BEGIN:VEVENT
SUMMARY:Contribution of Natural Aerosols to Uncertainty in Anthropogenic C
 limate Change
DTSTART;VALUE=DATE-TIME:20171003T073000Z
DTEND;VALUE=DATE-TIME:20171003T083000Z
DTSTAMP;VALUE=DATE-TIME:20240229T181829Z
UID:indico-contribution-0-0-3@ictp.it
DESCRIPTION:Speakers: MESKHIDZE\, Nicholas (NC State University\, USA)\n//
 indico.ictp.it/event/7966/session/0/contribution/3
LOCATION: - Georgia
URL://indico.ictp.it/event/7966/session/0/contribution/3
END:VEVENT
BEGIN:VEVENT
SUMMARY:The air quality and pollution in Georgia and its trend and potenti
 al impacts due to climate change: the importance of Regional monitoring ag
 encies.
DTSTART;VALUE=DATE-TIME:20171003T090000Z
DTEND;VALUE=DATE-TIME:20171003T093000Z
DTSTAMP;VALUE=DATE-TIME:20240229T181829Z
UID:indico-contribution-0-0-4@ictp.it
DESCRIPTION:Speakers: ARABIDZE\, Marina (National Environment Agency of Ge
 orgia)\n//indico.ictp.it/event/7966/session/0/contribution/4
LOCATION: - Georgia
URL://indico.ictp.it/event/7966/session/0/contribution/4
END:VEVENT
BEGIN:VEVENT
SUMMARY:Regional Climate Modeling : Why?
DTSTART;VALUE=DATE-TIME:20171003T093000Z
DTEND;VALUE=DATE-TIME:20171003T103000Z
DTSTAMP;VALUE=DATE-TIME:20240229T181829Z
UID:indico-contribution-0-0-5@ictp.it
DESCRIPTION:Speakers: SOLMON\, Fabien (CNRS/LA\, France)\n//indico.ictp.it
 /event/7966/session/0/contribution/5
LOCATION: - Georgia
URL://indico.ictp.it/event/7966/session/0/contribution/5
END:VEVENT
BEGIN:VEVENT
SUMMARY:Introduction to the RegCM4 System\, The ICTP RegCM
DTSTART;VALUE=DATE-TIME:20171003T113000Z
DTEND;VALUE=DATE-TIME:20171003T123000Z
DTSTAMP;VALUE=DATE-TIME:20240229T181829Z
UID:indico-contribution-0-0-6@ictp.it
DESCRIPTION:Speakers: GIULIANI\, Graziano (ICTP\, Italy)\n//indico.ictp.it
 /event/7966/session/0/contribution/6
LOCATION: - Georgia
URL://indico.ictp.it/event/7966/session/0/contribution/6
END:VEVENT
BEGIN:VEVENT
SUMMARY:The Earth System modeling in ICTP RegCM
DTSTART;VALUE=DATE-TIME:20171003T123000Z
DTEND;VALUE=DATE-TIME:20171003T133000Z
DTSTAMP;VALUE=DATE-TIME:20240229T181829Z
UID:indico-contribution-0-0-7@ictp.it
DESCRIPTION:Speakers: GIULIANI\, Graziano (ICTP\, Italy)\n//indico.ictp.it
 /event/7966/session/0/contribution/7
LOCATION: - Georgia
URL://indico.ictp.it/event/7966/session/0/contribution/7
END:VEVENT
BEGIN:VEVENT
SUMMARY:Lab Session – Installing the RegCM4 model
DTSTART;VALUE=DATE-TIME:20171003T140000Z
DTEND;VALUE=DATE-TIME:20171003T150000Z
DTSTAMP;VALUE=DATE-TIME:20240229T181829Z
UID:indico-contribution-0-0-8@ictp.it
DESCRIPTION:Speakers: GIULIANI\, Graziano (ICTP\, Italy)\n//indico.ictp.it
 /event/7966/session/0/contribution/8
LOCATION: - Georgia
URL://indico.ictp.it/event/7966/session/0/contribution/8
END:VEVENT
END:VCALENDAR
