BEGIN:VCALENDAR
VERSION:2.0
PRODID:-//CERN//INDICO//EN
BEGIN:VEVENT
SUMMARY:Earthquake source: representation theorem
DTSTART;VALUE=DATE-TIME:20171212T153000Z
DTEND;VALUE=DATE-TIME:20171212T163000Z
DTSTAMP;VALUE=DATE-TIME:20240229T175440Z
UID:indico-contribution-12@ictp.it
DESCRIPTION:Speakers: FABIO ROMANELLI (University of Trieste\, Italy)\n//i
 ndico.ictp.it/event/8176/session/1/contribution/12
LOCATION:Hanoi - Viet Nam
URL://indico.ictp.it/event/8176/session/1/contribution/12
END:VEVENT
END:VCALENDAR
