BEGIN:VCALENDAR
VERSION:2.0
PRODID:-//CERN//INDICO//EN
BEGIN:VEVENT
SUMMARY:Understanding continental lithospheric evolution during collision 
 beneath Tibet constrained by global tomographic images
DTSTART;VALUE=DATE-TIME:20171213T150000Z
DTEND;VALUE=DATE-TIME:20171213T154500Z
DTSTAMP;VALUE=DATE-TIME:20240229T174958Z
UID:indico-contribution-16@ictp.it
DESCRIPTION:Speakers: ANNE REPLUMAZ (Universite Grenoble Alpes\, France)\n
 //indico.ictp.it/event/8176/session/2/contribution/16
LOCATION:Hanoi - Viet Nam
URL://indico.ictp.it/event/8176/session/2/contribution/16
END:VEVENT
END:VCALENDAR
