BEGIN:VCALENDAR
VERSION:2.0
PRODID:-//CERN//INDICO//EN
BEGIN:VEVENT
SUMMARY:INSAR
DTSTART;VALUE=DATE-TIME:20171214T133000Z
DTEND;VALUE=DATE-TIME:20171214T143000Z
DTSTAMP;VALUE=DATE-TIME:20240229T175413Z
UID:indico-contribution-22@ictp.it
DESCRIPTION:Speakers: HUA WANG (Guangdong University of Technology\, P.R. 
 of China)\n//indico.ictp.it/event/8176/session/3/contribution/22
LOCATION:Hanoi - Viet Nam
URL://indico.ictp.it/event/8176/session/3/contribution/22
END:VEVENT
END:VCALENDAR
