BEGIN:VCALENDAR
VERSION:2.0
PRODID:-//CERN//INDICO//EN
BEGIN:VEVENT
SUMMARY:Paleoseismology
DTSTART;VALUE=DATE-TIME:20171214T160000Z
DTEND;VALUE=DATE-TIME:20171214T170000Z
DTSTAMP;VALUE=DATE-TIME:20240229T174932Z
UID:indico-contribution-24@ictp.it
DESCRIPTION:Speakers: MOHAMMAD FOROUTAN (ICTP\, Italy)\n//indico.ictp.it/e
 vent/8176/session/3/contribution/24
LOCATION:Hanoi - Viet Nam
URL://indico.ictp.it/event/8176/session/3/contribution/24
END:VEVENT
END:VCALENDAR
