BEGIN:VCALENDAR
VERSION:2.0
PRODID:-//CERN//INDICO//EN
BEGIN:VEVENT
SUMMARY:H/V
DTSTART;VALUE=DATE-TIME:20171218T140000Z
DTEND;VALUE=DATE-TIME:20171218T150000Z
DTSTAMP;VALUE=DATE-TIME:20240229T175211Z
UID:indico-contribution-32@ictp.it
DESCRIPTION:Speakers: TUAN THANH TRAN (VNU\, HUS)\n//indico.ictp.it/event/
 8176/session/7/contribution/32
LOCATION:Hanoi - Viet Nam
URL://indico.ictp.it/event/8176/session/7/contribution/32
END:VEVENT
END:VCALENDAR
