BEGIN:VCALENDAR
VERSION:2.0
PRODID:-//CERN//INDICO//EN
BEGIN:VEVENT
SUMMARY:Continental Deformation: GPS Geodesy and kinematics and dynamics o
 f the deformation
DTSTART;VALUE=DATE-TIME:20171219T080000Z
DTEND;VALUE=DATE-TIME:20171219T090000Z
DTSTAMP;VALUE=DATE-TIME:20240229T175003Z
UID:indico-contribution-34@ictp.it
DESCRIPTION:Speakers: ABDELKRIM AOUDIA\, FARHAN JAVED (ICTP\, Italy)\n//in
 dico.ictp.it/event/8176/session/8/contribution/34
LOCATION:Hanoi - Viet Nam
URL://indico.ictp.it/event/8176/session/8/contribution/34
END:VEVENT
END:VCALENDAR
