BEGIN:VCALENDAR
VERSION:2.0
PRODID:-//CERN//INDICO//EN
BEGIN:VEVENT
SUMMARY:Participant presentations and open discussion
DTSTART;VALUE=DATE-TIME:20171219T153000Z
DTEND;VALUE=DATE-TIME:20171219T170000Z
DTSTAMP;VALUE=DATE-TIME:20240229T175443Z
UID:indico-contribution-38@ictp.it
DESCRIPTION:Speakers: ALL ()\n//indico.ictp.it/event/8176/session/8/contri
 bution/38
LOCATION:Hanoi - Viet Nam
URL://indico.ictp.it/event/8176/session/8/contribution/38
END:VEVENT
END:VCALENDAR
