BEGIN:VCALENDAR
VERSION:2.0
PRODID:-//CERN//INDICO//EN
BEGIN:VEVENT
SUMMARY:Lessons from Sumatra\, 2004
DTSTART;VALUE=DATE-TIME:20171221T090000Z
DTEND;VALUE=DATE-TIME:20171221T100000Z
DTSTAMP;VALUE=DATE-TIME:20240229T174954Z
UID:indico-contribution-46@ictp.it
DESCRIPTION:Speakers: EMILE OKAL ()\n//indico.ictp.it/event/8176/session/1
 0/contribution/46
LOCATION:Hanoi - Viet Nam
URL://indico.ictp.it/event/8176/session/10/contribution/46
END:VEVENT
END:VCALENDAR
