BEGIN:VCALENDAR
VERSION:2.0
PRODID:-//CERN//INDICO//EN
BEGIN:VEVENT
SUMMARY:Recent developments: Sequencing of tsunami waves
DTSTART;VALUE=DATE-TIME:20171221T153000Z
DTEND;VALUE=DATE-TIME:20171221T163000Z
DTSTAMP;VALUE=DATE-TIME:20240229T175201Z
UID:indico-contribution-50@ictp.it
DESCRIPTION:Speakers: EMILE OKAL ()\n//indico.ictp.it/event/8176/session/1
 0/contribution/50
LOCATION:Hanoi - Viet Nam
URL://indico.ictp.it/event/8176/session/10/contribution/50
END:VEVENT
END:VCALENDAR
