BEGIN:VCALENDAR
VERSION:2.0
PRODID:-//CERN//INDICO//EN
BEGIN:VEVENT
SUMMARY:Participant Presentations
DTSTART;VALUE=DATE-TIME:20171215T080000Z
DTEND;VALUE=DATE-TIME:20171215T093000Z
DTSTAMP;VALUE=DATE-TIME:20240229T175405Z
UID:indico-contribution-4-0-25@ictp.it
DESCRIPTION:Speakers: \n//indico.ictp.it/event/8176/session/4/contribution
 /25
LOCATION:Hanoi - Viet Nam
URL://indico.ictp.it/event/8176/session/4/contribution/25
END:VEVENT
BEGIN:VEVENT
SUMMARY:Introduction to computer exercises / Division into working groups
DTSTART;VALUE=DATE-TIME:20171215T100000Z
DTEND;VALUE=DATE-TIME:20171215T113000Z
DTSTAMP;VALUE=DATE-TIME:20240229T175405Z
UID:indico-contribution-4-0-26@ictp.it
DESCRIPTION:Speakers: ALL ()\n//indico.ictp.it/event/8176/session/4/contri
 bution/26
LOCATION:Hanoi - Viet Nam
URL://indico.ictp.it/event/8176/session/4/contribution/26
END:VEVENT
BEGIN:VEVENT
SUMMARY:Computer exercises
DTSTART;VALUE=DATE-TIME:20171215T130000Z
DTEND;VALUE=DATE-TIME:20171215T143000Z
DTSTAMP;VALUE=DATE-TIME:20240229T175405Z
UID:indico-contribution-4-0-27@ictp.it
DESCRIPTION:Speakers: \n//indico.ictp.it/event/8176/session/4/contribution
 /27
LOCATION:Hanoi - Viet Nam
URL://indico.ictp.it/event/8176/session/4/contribution/27
END:VEVENT
BEGIN:VEVENT
SUMMARY:Computer exercises
DTSTART;VALUE=DATE-TIME:20171215T150000Z
DTEND;VALUE=DATE-TIME:20171215T170000Z
DTSTAMP;VALUE=DATE-TIME:20240229T175405Z
UID:indico-contribution-4-0-28@ictp.it
DESCRIPTION:Speakers: \n//indico.ictp.it/event/8176/session/4/contribution
 /28
LOCATION:Hanoi - Viet Nam
URL://indico.ictp.it/event/8176/session/4/contribution/28
END:VEVENT
END:VCALENDAR
