BEGIN:VCALENDAR
VERSION:2.0
PRODID:-//CERN//INDICO//EN
BEGIN:VEVENT
SUMMARY:Distributed computing in deal.II\, parallel solvers and preconditi
 oners
DTSTART;VALUE=DATE-TIME:20180222T083000Z
DTEND;VALUE=DATE-TIME:20180222T100000Z
DTSTAMP;VALUE=DATE-TIME:20240229T173546Z
UID:indico-contribution-58-0-238@ictp.it
DESCRIPTION:Speakers: WOLFGANG BANGERTH (Colorado State University\, Fort 
 Collins)\n//indico.ictp.it/event/8344/session/58/contribution/238
LOCATION: - Mexico
URL://indico.ictp.it/event/8344/session/58/contribution/238
END:VEVENT
BEGIN:VEVENT
SUMMARY:Overview on GPU Accelerators and Programming Paradigms
DTSTART;VALUE=DATE-TIME:20180222T103000Z
DTEND;VALUE=DATE-TIME:20180222T111500Z
DTSTAMP;VALUE=DATE-TIME:20240229T173546Z
UID:indico-contribution-58-0-239@ictp.it
DESCRIPTION:Speakers: IVAN GIROTTO (ICTP\, Trieste)\n//indico.ictp.it/even
 t/8344/session/58/contribution/239
LOCATION: - Mexico
URL://indico.ictp.it/event/8344/session/58/contribution/239
END:VEVENT
BEGIN:VEVENT
SUMMARY:Future of Programming Paradigms
DTSTART;VALUE=DATE-TIME:20180222T111500Z
DTEND;VALUE=DATE-TIME:20180222T120000Z
DTSTAMP;VALUE=DATE-TIME:20240229T173546Z
UID:indico-contribution-58-0-240@ictp.it
DESCRIPTION:Speakers: JIMMY AGUILAR MENA (Barcelona Supercomputing Center)
 \n//indico.ictp.it/event/8344/session/58/contribution/240
LOCATION: - Mexico
URL://indico.ictp.it/event/8344/session/58/contribution/240
END:VEVENT
BEGIN:VEVENT
SUMMARY:Working on Projects
DTSTART;VALUE=DATE-TIME:20180222T130000Z
DTEND;VALUE=DATE-TIME:20180222T150000Z
DTSTAMP;VALUE=DATE-TIME:20240229T173546Z
UID:indico-contribution-58-0-241@ictp.it
DESCRIPTION:Speakers: \n//indico.ictp.it/event/8344/session/58/contributio
 n/241
LOCATION: - Mexico
URL://indico.ictp.it/event/8344/session/58/contribution/241
END:VEVENT
BEGIN:VEVENT
SUMMARY:Working on Projects
DTSTART;VALUE=DATE-TIME:20180222T153000Z
DTEND;VALUE=DATE-TIME:20180222T173000Z
DTSTAMP;VALUE=DATE-TIME:20240229T173546Z
UID:indico-contribution-58-0-242@ictp.it
DESCRIPTION:Speakers: \n//indico.ictp.it/event/8344/session/58/contributio
 n/242
LOCATION: - Mexico
URL://indico.ictp.it/event/8344/session/58/contribution/242
END:VEVENT
END:VCALENDAR
