BEGIN:VCALENDAR
VERSION:2.0
PRODID:-//CERN//INDICO//EN
BEGIN:VEVENT
SUMMARY:Hands-on: Python Programming
DTSTART;VALUE=DATE-TIME:20180428T120000Z
DTEND;VALUE=DATE-TIME:20180428T140000Z
DTSTAMP;VALUE=DATE-TIME:20240229T172402Z
UID:indico-contribution-110@ictp.it
DESCRIPTION:Speakers: D. GRELLSCHEID (University of Durham)\n//indico.ictp
 .it/event/8346/session/29/contribution/110
LOCATION:Sharif University of Technology Physics Department
URL://indico.ictp.it/event/8346/session/29/contribution/110
END:VEVENT
END:VCALENDAR
