BEGIN:VCALENDAR
VERSION:2.0
PRODID:-//CERN//INDICO//EN
BEGIN:VEVENT
SUMMARY:Documentation basics
DTSTART;VALUE=DATE-TIME:20180428T143000Z
DTEND;VALUE=DATE-TIME:20180428T153000Z
DTSTAMP;VALUE=DATE-TIME:20240229T172432Z
UID:indico-contribution-111@ictp.it
DESCRIPTION:Speakers: A. FARNUDI (Sharif University of Technology)\n//indi
 co.ictp.it/event/8346/session/29/contribution/111
LOCATION:Sharif University of Technology Physics Department
URL://indico.ictp.it/event/8346/session/29/contribution/111
END:VEVENT
END:VCALENDAR
