BEGIN:VCALENDAR
VERSION:2.0
PRODID:-//CERN//INDICO//EN
BEGIN:VEVENT
SUMMARY:Hands-on: Memory Hierarchy
DTSTART;VALUE=DATE-TIME:20180501T120000Z
DTEND;VALUE=DATE-TIME:20180501T140000Z
DTSTAMP;VALUE=DATE-TIME:20240229T172521Z
UID:indico-contribution-124@ictp.it
DESCRIPTION:Speakers: I. GIROTTO (ICTP)\n//indico.ictp.it/event/8346/sessi
 on/32/contribution/124
LOCATION:Sharif University of Technology Physics Department
URL://indico.ictp.it/event/8346/session/32/contribution/124
END:VEVENT
END:VCALENDAR
