BEGIN:VCALENDAR
VERSION:2.0
PRODID:-//CERN//INDICO//EN
BEGIN:VEVENT
SUMMARY:Documentation Tools for Users and Developers
DTSTART;VALUE=DATE-TIME:20180506T073000Z
DTEND;VALUE=DATE-TIME:20180506T084500Z
DTSTAMP;VALUE=DATE-TIME:20240229T172525Z
UID:indico-contribution-131@ictp.it
DESCRIPTION:Speakers: D. GRELLSCHEID (University of Durham)\n//indico.ictp
 .it/event/8346/session/35/contribution/131
LOCATION:Sharif University of Technology Physics Department
URL://indico.ictp.it/event/8346/session/35/contribution/131
END:VEVENT
END:VCALENDAR
