BEGIN:VCALENDAR
VERSION:2.0
PRODID:-//CERN//INDICO//EN
BEGIN:VEVENT
SUMMARY:Project presentations
DTSTART;VALUE=DATE-TIME:20180509T073000Z
DTEND;VALUE=DATE-TIME:20180509T084500Z
DTSTAMP;VALUE=DATE-TIME:20240229T172450Z
UID:indico-contribution-143@ictp.it
DESCRIPTION:Speakers: \n//indico.ictp.it/event/8346/session/38/contributio
 n/143
LOCATION:Sharif University of Technology Physics Department
URL://indico.ictp.it/event/8346/session/38/contribution/143
END:VEVENT
END:VCALENDAR
