BEGIN:VCALENDAR
VERSION:2.0
PRODID:-//CERN//INDICO//EN
BEGIN:VEVENT
SUMMARY:Project presentations
DTSTART;VALUE=DATE-TIME:20180509T073000Z
DTEND;VALUE=DATE-TIME:20180509T084500Z
DTSTAMP;VALUE=DATE-TIME:20240229T172436Z
UID:indico-contribution-38-0-143@ictp.it
DESCRIPTION:Speakers: \n//indico.ictp.it/event/8346/session/38/contributio
 n/143
LOCATION:Sharif University of Technology Physics Department
URL://indico.ictp.it/event/8346/session/38/contribution/143
END:VEVENT
BEGIN:VEVENT
SUMMARY:Programming Project Presentations\, Handing out of Certificates
DTSTART;VALUE=DATE-TIME:20180509T091500Z
DTEND;VALUE=DATE-TIME:20180509T103000Z
DTSTAMP;VALUE=DATE-TIME:20240229T172436Z
UID:indico-contribution-38-0-144@ictp.it
DESCRIPTION:Speakers: \n//indico.ictp.it/event/8346/session/38/contributio
 n/144
LOCATION:Sharif University of Technology Physics Department
URL://indico.ictp.it/event/8346/session/38/contribution/144
END:VEVENT
BEGIN:VEVENT
SUMMARY:Departure/ Free time
DTSTART;VALUE=DATE-TIME:20180509T120000Z
DTEND;VALUE=DATE-TIME:20180509T140000Z
DTSTAMP;VALUE=DATE-TIME:20240229T172436Z
UID:indico-contribution-38-0-145@ictp.it
DESCRIPTION:Speakers: \n//indico.ictp.it/event/8346/session/38/contributio
 n/145
LOCATION:Sharif University of Technology Physics Department
URL://indico.ictp.it/event/8346/session/38/contribution/145
END:VEVENT
END:VCALENDAR
