BEGIN:VCALENDAR
VERSION:2.0
PRODID:-//CERN//INDICO//EN
BEGIN:VEVENT
SUMMARY:TBA
DTSTART;VALUE=DATE-TIME:20181016T100000Z
DTEND;VALUE=DATE-TIME:20181016T103000Z
DTSTAMP;VALUE=DATE-TIME:20240229T164000Z
UID:indico-contribution-10@ictp.it
DESCRIPTION:Speakers: MS. SCHUELLER ()\nChair person: Dr. Adam Mekonnen   
 \nFacilitator: Dr. Getachew Adam\n\n//indico.ictp.it/event/8352/session/1/
 contribution/10
LOCATION:Addis Ababa - Ethiopia
URL://indico.ictp.it/event/8352/session/1/contribution/10
END:VEVENT
END:VCALENDAR
