BEGIN:VCALENDAR
VERSION:2.0
PRODID:-//CERN//INDICO//EN
BEGIN:VEVENT
SUMMARY:Fundamentals of Solar Energy Conversion\nEmerging PV-technologies 
 - potentials and limitations
DTSTART;VALUE=DATE-TIME:20181016T120000Z
DTEND;VALUE=DATE-TIME:20181016T130000Z
DTSTAMP;VALUE=DATE-TIME:20240229T163920Z
UID:indico-contribution-11@ictp.it
DESCRIPTION:Speakers: PROF. MARKUS SCHARBER ()\nChair person: Prof. Harald
  Hoppe    \nFacilitator: Dr. Getachew Adam\n\n//indico.ictp.it/event/8352/
 session/1/contribution/11
LOCATION:Addis Ababa - Ethiopia
URL://indico.ictp.it/event/8352/session/1/contribution/11
END:VEVENT
END:VCALENDAR
