BEGIN:VCALENDAR
VERSION:2.0
PRODID:-//CERN//INDICO//EN
BEGIN:VEVENT
SUMMARY:TBA
DTSTART;VALUE=DATE-TIME:20181016T130000Z
DTEND;VALUE=DATE-TIME:20181016T133000Z
DTSTAMP;VALUE=DATE-TIME:20240229T163951Z
UID:indico-contribution-12@ictp.it
DESCRIPTION:Speakers: TBA ()\nChair person: Prof. Harald Hoppe    \nFacili
 tator: Dr. Getachew Adam\n\n//indico.ictp.it/event/8352/session/1/contribu
 tion/12
LOCATION:Addis Ababa - Ethiopia
URL://indico.ictp.it/event/8352/session/1/contribution/12
END:VEVENT
END:VCALENDAR
