BEGIN:VCALENDAR
VERSION:2.0
PRODID:-//CERN//INDICO//EN
BEGIN:VEVENT
SUMMARY:Understanding water splitting on hematite through computer simulat
 ions
DTSTART;VALUE=DATE-TIME:20181017T120000Z
DTEND;VALUE=DATE-TIME:20181017T130000Z
DTSTAMP;VALUE=DATE-TIME:20240229T163958Z
UID:indico-contribution-18@ictp.it
DESCRIPTION:Speakers: DR. NICOLA SERIANI ()\nChair person: Dr. Asefa Serga
 wi  \nFacilitator: Dr. Getachew Adam\n\n//indico.ictp.it/event/8352/sessio
 n/2/contribution/18
LOCATION:Addis Ababa - Ethiopia
URL://indico.ictp.it/event/8352/session/2/contribution/18
END:VEVENT
END:VCALENDAR
