BEGIN:VCALENDAR
VERSION:2.0
PRODID:-//CERN//INDICO//EN
BEGIN:VEVENT
SUMMARY:Overview of fuel cells
DTSTART;VALUE=DATE-TIME:20181016T090000Z
DTEND;VALUE=DATE-TIME:20181016T100000Z
DTSTAMP;VALUE=DATE-TIME:20240229T163929Z
UID:indico-contribution-9@ictp.it
DESCRIPTION:Speakers: PROF. SOSINA HAILE ()\nChair person: Dr. Adam Mekonn
 en   \nFacilitator: Dr. Getachew Adam\n\n//indico.ictp.it/event/8352/sessi
 on/1/contribution/9
LOCATION:Addis Ababa - Ethiopia
URL://indico.ictp.it/event/8352/session/1/contribution/9
END:VEVENT
END:VCALENDAR
