BEGIN:VCALENDAR
VERSION:2.0
PRODID:-//CERN//INDICO//EN
BEGIN:VEVENT
SUMMARY:Crystals\, Bloch Th.
DTSTART;VALUE=DATE-TIME:20181022T084500Z
DTEND;VALUE=DATE-TIME:20181022T093500Z
DTSTAMP;VALUE=DATE-TIME:20240229T162753Z
UID:indico-contribution-108@ictp.it
DESCRIPTION:Speakers: NARASIMHAN\, SHOBHANA (Jawaharlal Nehru Centre for A
 dvanced Scientific Research\, India)\n//indico.ictp.it/event/8354/session/
 22/contribution/108
LOCATION:Addis Ababa - 
URL://indico.ictp.it/event/8354/session/22/contribution/108
END:VEVENT
END:VCALENDAR
