BEGIN:VCALENDAR
VERSION:2.0
PRODID:-//CERN//INDICO//EN
BEGIN:VEVENT
SUMMARY:Computer Lab Linux\, Xmgrace\, Xcrysden\, etc.
DTSTART;VALUE=DATE-TIME:20181022T120000Z
DTEND;VALUE=DATE-TIME:20181022T153000Z
DTSTAMP;VALUE=DATE-TIME:20240229T162837Z
UID:indico-contribution-110@ictp.it
DESCRIPTION:Speakers: THOELE\, FLORIAN & MENTORS/TUTORS (ETH Zurich\, Swit
 zerland)\n//indico.ictp.it/event/8354/session/22/contribution/110
LOCATION:Addis Ababa - 
URL://indico.ictp.it/event/8354/session/22/contribution/110
END:VEVENT
END:VCALENDAR
