BEGIN:VCALENDAR
VERSION:2.0
PRODID:-//CERN//INDICO//EN
BEGIN:VEVENT
SUMMARY:Evening session (time TBA): Women in Science
DTSTART;VALUE=DATE-TIME:20181025T170000Z
DTEND;VALUE=DATE-TIME:20181025T180000Z
DTSTAMP;VALUE=DATE-TIME:20240229T162747Z
UID:indico-contribution-125@ictp.it
DESCRIPTION:Speakers: \n//indico.ictp.it/event/8354/session/25/contributio
 n/125
LOCATION:Addis Ababa - 
URL://indico.ictp.it/event/8354/session/25/contribution/125
END:VEVENT
END:VCALENDAR
