BEGIN:VCALENDAR
VERSION:2.0
PRODID:-//CERN//INDICO//EN
BEGIN:VEVENT
SUMMARY:MD Tutorial
DTSTART;VALUE=DATE-TIME:20181029T130000Z
DTEND;VALUE=DATE-TIME:20181029T163000Z
DTSTAMP;VALUE=DATE-TIME:20240229T162842Z
UID:indico-contribution-133@ictp.it
DESCRIPTION:Speakers: LUIJTEN\, ERIK (University Northwestern\, U.S.A.)\n/
 /indico.ictp.it/event/8354/session/27/contribution/133
LOCATION:Addis Ababa - 
URL://indico.ictp.it/event/8354/session/27/contribution/133
END:VEVENT
END:VCALENDAR
