BEGIN:VCALENDAR
VERSION:2.0
PRODID:-//CERN//INDICO//EN
BEGIN:VEVENT
SUMMARY:Theory of DFT
DTSTART;VALUE=DATE-TIME:20181023T063000Z
DTEND;VALUE=DATE-TIME:20181023T072000Z
DTSTAMP;VALUE=DATE-TIME:20240229T162901Z
UID:indico-contribution-23-0-112@ictp.it
DESCRIPTION:Speakers: MARTIN\, RICHARD (Stanford\, USA)\n//indico.ictp.it/
 event/8354/session/23/contribution/112
LOCATION:Addis Ababa - 
URL://indico.ictp.it/event/8354/session/23/contribution/112
END:VEVENT
BEGIN:VEVENT
SUMMARY:Kohn-Sham approach xc functionals
DTSTART;VALUE=DATE-TIME:20181023T072000Z
DTEND;VALUE=DATE-TIME:20181023T081000Z
DTSTAMP;VALUE=DATE-TIME:20240229T162901Z
UID:indico-contribution-23-0-113@ictp.it
DESCRIPTION:Speakers: AMOLO\, GEORGE O. (University of Kenya\, Kenya)\n//i
 ndico.ictp.it/event/8354/session/23/contribution/113
LOCATION:Addis Ababa - 
URL://indico.ictp.it/event/8354/session/23/contribution/113
END:VEVENT
BEGIN:VEVENT
SUMMARY:Band structure
DTSTART;VALUE=DATE-TIME:20181023T084500Z
DTEND;VALUE=DATE-TIME:20181023T093500Z
DTSTAMP;VALUE=DATE-TIME:20240229T162901Z
UID:indico-contribution-23-0-114@ictp.it
DESCRIPTION:Speakers: NARASIMHAN\, SHOBHANA (Jawaharlal Nehru Centre for A
 dvanced Scientific Research\, India)\n//indico.ictp.it/event/8354/session/
 23/contribution/114
LOCATION:Addis Ababa - 
URL://indico.ictp.it/event/8354/session/23/contribution/114
END:VEVENT
BEGIN:VEVENT
SUMMARY:Through KS Eqs
DTSTART;VALUE=DATE-TIME:20181023T093500Z
DTEND;VALUE=DATE-TIME:20181023T102500Z
DTSTAMP;VALUE=DATE-TIME:20240229T162901Z
UID:indico-contribution-23-0-115@ictp.it
DESCRIPTION:Speakers: SHAIDU\, YUSUF (the International School for Advance
 d Studies\, Italy)\n//indico.ictp.it/event/8354/session/23/contribution/11
 5
LOCATION:Addis Ababa - 
URL://indico.ictp.it/event/8354/session/23/contribution/115
END:VEVENT
BEGIN:VEVENT
SUMMARY:Computer Lab\nIntro to QE - Total energy\, k-pts\, cutoff
DTSTART;VALUE=DATE-TIME:20181023T120000Z
DTEND;VALUE=DATE-TIME:20181023T153000Z
DTSTAMP;VALUE=DATE-TIME:20240229T162901Z
UID:indico-contribution-23-0-116@ictp.it
DESCRIPTION:Speakers: MAMMEN\, NISHA & MENTORS/TUTORS (University of Jyvas
 kyla\, Finland)\n//indico.ictp.it/event/8354/session/23/contribution/116
LOCATION:Addis Ababa - 
URL://indico.ictp.it/event/8354/session/23/contribution/116
END:VEVENT
BEGIN:VEVENT
SUMMARY:Evening session (time TBA): How to give a scientific talk
DTSTART;VALUE=DATE-TIME:20181023T170000Z
DTEND;VALUE=DATE-TIME:20181023T180000Z
DTSTAMP;VALUE=DATE-TIME:20240229T162901Z
UID:indico-contribution-23-0-117@ictp.it
DESCRIPTION:Speakers: GRIFFIN\, SINEAD (Lawrence Berkeley National Laborat
 ory\, U.S.A.)\n//indico.ictp.it/event/8354/session/23/contribution/117
LOCATION:Addis Ababa - 
URL://indico.ictp.it/event/8354/session/23/contribution/117
END:VEVENT
END:VCALENDAR
