BEGIN:VCALENDAR
VERSION:2.0
PRODID:-//CERN//INDICO//EN
BEGIN:VEVENT
SUMMARY:Excitations\, Start TDDFT
DTSTART;VALUE=DATE-TIME:20181026T063000Z
DTEND;VALUE=DATE-TIME:20181026T081500Z
DTSTAMP;VALUE=DATE-TIME:20240229T162808Z
UID:indico-contribution-26-0-126@ictp.it
DESCRIPTION:Speakers: CASIDA\, MARK E. (Kwame Nkrumah University of Scienc
 e and Technology\, Ghana)\n//indico.ictp.it/event/8354/session/26/contribu
 tion/126
LOCATION:Addis Ababa - 
URL://indico.ictp.it/event/8354/session/26/contribution/126
END:VEVENT
BEGIN:VEVENT
SUMMARY:Excitations\, Many-body theory
DTSTART;VALUE=DATE-TIME:20181026T084500Z
DTEND;VALUE=DATE-TIME:20181026T103000Z
DTSTAMP;VALUE=DATE-TIME:20240229T162808Z
UID:indico-contribution-26-0-127@ictp.it
DESCRIPTION:Speakers: GATTI\, MATTEO (Ecole Polytechnique\, France)\n//ind
 ico.ictp.it/event/8354/session/26/contribution/127
LOCATION:Addis Ababa - 
URL://indico.ictp.it/event/8354/session/26/contribution/127
END:VEVENT
BEGIN:VEVENT
SUMMARY:Computer Lab Metals
DTSTART;VALUE=DATE-TIME:20181026T120000Z
DTEND;VALUE=DATE-TIME:20181026T140000Z
DTSTAMP;VALUE=DATE-TIME:20240229T162808Z
UID:indico-contribution-26-0-128@ictp.it
DESCRIPTION:Speakers: \n//indico.ictp.it/event/8354/session/26/contributio
 n/128
LOCATION:Addis Ababa - 
URL://indico.ictp.it/event/8354/session/26/contribution/128
END:VEVENT
BEGIN:VEVENT
SUMMARY:Discussion of projects
DTSTART;VALUE=DATE-TIME:20181026T140000Z
DTEND;VALUE=DATE-TIME:20181026T153000Z
DTSTAMP;VALUE=DATE-TIME:20240229T162808Z
UID:indico-contribution-26-0-129@ictp.it
DESCRIPTION:Speakers: \n//indico.ictp.it/event/8354/session/26/contributio
 n/129
LOCATION:Addis Ababa - 
URL://indico.ictp.it/event/8354/session/26/contribution/129
END:VEVENT
BEGIN:VEVENT
SUMMARY:Evening session (time TBA)
DTSTART;VALUE=DATE-TIME:20181026T170000Z
DTEND;VALUE=DATE-TIME:20181026T180000Z
DTSTAMP;VALUE=DATE-TIME:20240229T162808Z
UID:indico-contribution-26-0-130@ictp.it
DESCRIPTION:Speakers: \n//indico.ictp.it/event/8354/session/26/contributio
 n/130
LOCATION:Addis Ababa - 
URL://indico.ictp.it/event/8354/session/26/contribution/130
END:VEVENT
END:VCALENDAR
