BEGIN:VCALENDAR
VERSION:2.0
PRODID:-//CERN//INDICO//EN
BEGIN:VEVENT
SUMMARY:Short talk TBA & Projects
DTSTART;VALUE=DATE-TIME:20181030T073000Z
DTEND;VALUE=DATE-TIME:20181030T091500Z
DTSTAMP;VALUE=DATE-TIME:20240229T162756Z
UID:indico-contribution-28-0-135@ictp.it
DESCRIPTION:Speakers: \n//indico.ictp.it/event/8354/session/28/contributio
 n/135
LOCATION:Addis Ababa - 
URL://indico.ictp.it/event/8354/session/28/contribution/135
END:VEVENT
BEGIN:VEVENT
SUMMARY:Projects
DTSTART;VALUE=DATE-TIME:20181030T094500Z
DTEND;VALUE=DATE-TIME:20181030T113000Z
DTSTAMP;VALUE=DATE-TIME:20240229T162756Z
UID:indico-contribution-28-0-136@ictp.it
DESCRIPTION:Speakers: \n//indico.ictp.it/event/8354/session/28/contributio
 n/136
LOCATION:Addis Ababa - 
URL://indico.ictp.it/event/8354/session/28/contribution/136
END:VEVENT
BEGIN:VEVENT
SUMMARY:Short talk TBA & Projects
DTSTART;VALUE=DATE-TIME:20181030T130000Z
DTEND;VALUE=DATE-TIME:20181030T163000Z
DTSTAMP;VALUE=DATE-TIME:20240229T162756Z
UID:indico-contribution-28-0-137@ictp.it
DESCRIPTION:Speakers: \n//indico.ictp.it/event/8354/session/28/contributio
 n/137
LOCATION:Addis Ababa - 
URL://indico.ictp.it/event/8354/session/28/contribution/137
END:VEVENT
BEGIN:VEVENT
SUMMARY:Evening session (time TBA): Establishing a research programme in A
 frica: the EAIFR
DTSTART;VALUE=DATE-TIME:20181030T180000Z
DTEND;VALUE=DATE-TIME:20181030T190000Z
DTSTAMP;VALUE=DATE-TIME:20240229T162756Z
UID:indico-contribution-28-0-138@ictp.it
DESCRIPTION:Speakers: AKIN-OJO\, OMOLOLU (University of Rwanda\nICTP East 
 African Institute for Fundamental Research\, Rwanda)\n//indico.ictp.it/eve
 nt/8354/session/28/contribution/138
LOCATION:Addis Ababa - 
URL://indico.ictp.it/event/8354/session/28/contribution/138
END:VEVENT
END:VCALENDAR
