BEGIN:VCALENDAR
VERSION:2.0
PRODID:-//CERN//INDICO//EN
BEGIN:VEVENT
SUMMARY:CONVECTIVE SUPER -PARAMETRIZATION
DTSTART;VALUE=DATE-TIME:20190704T090000Z
DTEND;VALUE=DATE-TIME:20190704T103000Z
DTSTAMP;VALUE=DATE-TIME:20240229T220057Z
UID:indico-contribution-26@ictp.it
DESCRIPTION:Speakers: GRABOWSKI\, Wojciech (UCAR\, USA)\n//indico.ictp.it/
 event/8669/session/6/contribution/26
LOCATION:ICTP Kastler Lecture Hall (AGH)
URL://indico.ictp.it/event/8669/session/6/contribution/26
END:VEVENT
END:VCALENDAR
