BEGIN:VCALENDAR
VERSION:2.0
PRODID:-//CERN//INDICO//EN
BEGIN:VEVENT
SUMMARY:lab session
DTSTART;VALUE=DATE-TIME:20190705T140000Z
DTEND;VALUE=DATE-TIME:20190705T150000Z
DTSTAMP;VALUE=DATE-TIME:20240229T220229Z
UID:indico-contribution-32@ictp.it
DESCRIPTION:Speakers: \n//indico.ictp.it/event/8669/session/7/contribution
 /32
LOCATION:ICTP Adriatico Guest House - Informatics Laboratory
URL://indico.ictp.it/event/8669/session/7/contribution/32
END:VEVENT
END:VCALENDAR
