BEGIN:VCALENDAR
VERSION:2.0
PRODID:-//CERN//INDICO//EN
BEGIN:VEVENT
SUMMARY:Our understanding of how SST impacts aggregation remains poor
DTSTART;VALUE=DATE-TIME:20190709T090000Z
DTEND;VALUE=DATE-TIME:20190709T093000Z
DTSTAMP;VALUE=DATE-TIME:20240229T220053Z
UID:indico-contribution-35@ictp.it
DESCRIPTION:Speakers: BONY\, Sandrine (LMD\, France)\n//indico.ictp.it/eve
 nt/8669/session/8/contribution/35
LOCATION:ICTP Kastler Lecture Hall (AGH)
URL://indico.ictp.it/event/8669/session/8/contribution/35
END:VEVENT
END:VCALENDAR
