BEGIN:VCALENDAR
VERSION:2.0
PRODID:-//CERN//INDICO//EN
BEGIN:VEVENT
SUMMARY:Panel leaders summary
DTSTART;VALUE=DATE-TIME:20190709T140000Z
DTEND;VALUE=DATE-TIME:20190709T153000Z
DTSTAMP;VALUE=DATE-TIME:20240229T220042Z
UID:indico-contribution-37@ictp.it
DESCRIPTION:Speakers: \n//indico.ictp.it/event/8669/session/8/contribution
 /37
LOCATION:ICTP Kastler Lecture Hall (AGH)
URL://indico.ictp.it/event/8669/session/8/contribution/37
END:VEVENT
END:VCALENDAR
