BEGIN:VCALENDAR
VERSION:2.0
PRODID:-//CERN//INDICO//EN
BEGIN:VEVENT
SUMMARY:Cloud-radiative feedback are key\, and especially shallow convecti
 on-radiation is important for aggregation
DTSTART;VALUE=DATE-TIME:20190710T071500Z
DTEND;VALUE=DATE-TIME:20190710T074500Z
DTSTAMP;VALUE=DATE-TIME:20240229T220216Z
UID:indico-contribution-40@ictp.it
DESCRIPTION:Speakers: MULLER\, Caroline (LMD\, France)\n//indico.ictp.it/e
 vent/8669/session/9/contribution/40
LOCATION:ICTP Kastler Lecture Hall (AGH)
URL://indico.ictp.it/event/8669/session/9/contribution/40
END:VEVENT
END:VCALENDAR
