BEGIN:VCALENDAR
VERSION:2.0
PRODID:-//CERN//INDICO//EN
BEGIN:VEVENT
SUMMARY:Convection aggregation in global convection permitting models
DTSTART;VALUE=DATE-TIME:20190708T093000Z
DTEND;VALUE=DATE-TIME:20190708T101500Z
DTSTAMP;VALUE=DATE-TIME:20240229T220156Z
UID:indico-contribution-7@ictp.it
DESCRIPTION:Speakers: KHAIROUTDINOV\, Marat (Stonybrook U.\, USA)\n//indic
 o.ictp.it/event/8669/session/0/contribution/7
LOCATION:ICTP Kastler Lecture Hall (AGH)
URL://indico.ictp.it/event/8669/session/0/contribution/7
END:VEVENT
END:VCALENDAR
