BEGIN:VCALENDAR
VERSION:2.0
PRODID:-//CERN//INDICO//EN
BEGIN:VEVENT
SUMMARY:Can simple models from statistical mechanics shed light into self-
 aggregation\, or are detailed fluid dynamics including boundary-layer stru
 ctures crucial? - simple models
DTSTART;VALUE=DATE-TIME:20190712T071500Z
DTEND;VALUE=DATE-TIME:20190712T074500Z
DTSTAMP;VALUE=DATE-TIME:20240229T220132Z
UID:indico-contribution-70@ictp.it
DESCRIPTION:Speakers: CRAIG\, George (LMU\, Germay)\n//indico.ictp.it/even
 t/8669/session/11/contribution/70
LOCATION:ICTP Kastler Lecture Hall (AGH)
URL://indico.ictp.it/event/8669/session/11/contribution/70
END:VEVENT
END:VCALENDAR
