BEGIN:VCALENDAR
VERSION:2.0
PRODID:-//CERN//INDICO//EN
BEGIN:VEVENT
SUMMARY:Clouds in the climate system\, why so much uncertainty?
DTSTART;VALUE=DATE-TIME:20190708T140000Z
DTEND;VALUE=DATE-TIME:20190708T143000Z
DTSTAMP;VALUE=DATE-TIME:20240229T220033Z
UID:indico-contribution-1-0-9@ictp.it
DESCRIPTION:Speakers: BONY\, Sandrine (LMD\, France)\n//indico.ictp.it/eve
 nt/8669/session/1/contribution/9
LOCATION:ICTP
URL://indico.ictp.it/event/8669/session/1/contribution/9
END:VEVENT
BEGIN:VEVENT
SUMMARY:Will our weather extremes become even more extreme?
DTSTART;VALUE=DATE-TIME:20190708T143000Z
DTEND;VALUE=DATE-TIME:20190708T150000Z
DTSTAMP;VALUE=DATE-TIME:20240229T220033Z
UID:indico-contribution-1-0-10@ictp.it
DESCRIPTION:Speakers: EMANUEL\, Kerry (MIT\, USA)\n//indico.ictp.it/event/
 8669/session/1/contribution/10
LOCATION:ICTP
URL://indico.ictp.it/event/8669/session/1/contribution/10
END:VEVENT
BEGIN:VEVENT
SUMMARY:Beyond Global Warming
DTSTART;VALUE=DATE-TIME:20190708T150000Z
DTEND;VALUE=DATE-TIME:20190708T153000Z
DTSTAMP;VALUE=DATE-TIME:20240229T220033Z
UID:indico-contribution-1-0-11@ictp.it
DESCRIPTION:Speakers: STEVENS\, Bjorn (MPIM\, Germany)\n//indico.ictp.it/e
 vent/8669/session/1/contribution/11
LOCATION:ICTP
URL://indico.ictp.it/event/8669/session/1/contribution/11
END:VEVENT
END:VCALENDAR
