BEGIN:VCALENDAR
VERSION:2.0
PRODID:-//CERN//INDICO//EN
BEGIN:VEVENT
SUMMARY:Registration - administrative formalities
DTSTART;VALUE=DATE-TIME:20190701T060000Z
DTEND;VALUE=DATE-TIME:20190701T080000Z
DTSTAMP;VALUE=DATE-TIME:20240229T215949Z
UID:indico-contribution-3-0-12@ictp.it
DESCRIPTION:Speakers: \n//indico.ictp.it/event/8669/session/3/contribution
 /12
LOCATION:ICTP Kastler Lecture Hall (AGH)
URL://indico.ictp.it/event/8669/session/3/contribution/12
END:VEVENT
BEGIN:VEVENT
SUMMARY:INTRODUCTION TO CLIMATE
DTSTART;VALUE=DATE-TIME:20190701T080000Z
DTEND;VALUE=DATE-TIME:20190701T092000Z
DTSTAMP;VALUE=DATE-TIME:20240229T215949Z
UID:indico-contribution-3-0-14@ictp.it
DESCRIPTION:Speakers: HOHENEGGER\, Cathy (MPI\, Germany)\n//indico.ictp.it
 /event/8669/session/3/contribution/14
LOCATION:ICTP Kastler Lecture Hall (AGH)
URL://indico.ictp.it/event/8669/session/3/contribution/14
END:VEVENT
BEGIN:VEVENT
SUMMARY:INTRO - the radiative equation\, interaction with a slab - interac
 tion with atmosphere gases\, line broadening mechanisms - interaction with
  clouds - methods to model radn\, 2 stream\, 6 stream\, 3D models\, Monte 
 Carlo\, Spherical harmonic
DTSTART;VALUE=DATE-TIME:20190701T092000Z
DTEND;VALUE=DATE-TIME:20190701T104000Z
DTSTAMP;VALUE=DATE-TIME:20240229T215949Z
UID:indico-contribution-3-0-13@ictp.it
DESCRIPTION:Speakers: PINCUS\, Robert (U. of Colorado\, USA)\n//indico.ict
 p.it/event/8669/session/3/contribution/13
LOCATION:ICTP Kastler Lecture Hall (AGH)
URL://indico.ictp.it/event/8669/session/3/contribution/13
END:VEVENT
BEGIN:VEVENT
SUMMARY:THERMODYNAMICS INTRO
DTSTART;VALUE=DATE-TIME:20190701T120000Z
DTEND;VALUE=DATE-TIME:20190701T124500Z
DTSTAMP;VALUE=DATE-TIME:20240229T215949Z
UID:indico-contribution-3-0-15@ictp.it
DESCRIPTION:Speakers: BORDONI SIMONA (Caltech\, USA)\n//indico.ictp.it/eve
 nt/8669/session/3/contribution/15
LOCATION:ICTP Kastler Lecture Hall (AGH)
URL://indico.ictp.it/event/8669/session/3/contribution/15
END:VEVENT
BEGIN:VEVENT
SUMMARY:CONVECTION INTRO
DTSTART;VALUE=DATE-TIME:20190701T124500Z
DTEND;VALUE=DATE-TIME:20190701T133000Z
DTSTAMP;VALUE=DATE-TIME:20240229T215949Z
UID:indico-contribution-3-0-68@ictp.it
DESCRIPTION:Speakers: TOMPKINS\, Adrian (ICTP\, Italy)\n//indico.ictp.it/e
 vent/8669/session/3/contribution/68
LOCATION:ICTP Kastler Lecture Hall (AGH)
URL://indico.ictp.it/event/8669/session/3/contribution/68
END:VEVENT
BEGIN:VEVENT
SUMMARY:Manual classification of Shallow convection organisation
DTSTART;VALUE=DATE-TIME:20190701T140000Z
DTEND;VALUE=DATE-TIME:20190701T153000Z
DTSTAMP;VALUE=DATE-TIME:20240229T215949Z
UID:indico-contribution-3-0-16@ictp.it
DESCRIPTION:Speakers: MULLER CAROLINE / TOMPKINS ADRIAN (LMD\, France / IC
 TP\, Italy)\n//indico.ictp.it/event/8669/session/3/contribution/16
LOCATION:ICTP Kastler Lecture Hall (AGH)
URL://indico.ictp.it/event/8669/session/3/contribution/16
END:VEVENT
END:VCALENDAR
