BEGIN:VCALENDAR
VERSION:2.0
PRODID:-//CERN//INDICO//EN
BEGIN:VEVENT
SUMMARY:Space Weather effects on GNSS
DTSTART;VALUE=DATE-TIME:20190527T092000Z
DTEND;VALUE=DATE-TIME:20190527T100000Z
DTSTAMP;VALUE=DATE-TIME:20240229T222408Z
UID:indico-contribution-36@ictp.it
DESCRIPTION:Speakers: P. DOHERTY (BC\, USA)\n//indico.ictp.it/event/8686/s
 ession/8/contribution/36
LOCATION:ICTP Adriatico Guest House - Giambiagi Lecture Hall
URL://indico.ictp.it/event/8686/session/8/contribution/36
END:VEVENT
END:VCALENDAR
