BEGIN:VCALENDAR
VERSION:2.0
PRODID:-//CERN//INDICO//EN
BEGIN:VEVENT
SUMMARY:Introduction to Ionospheric irregularities and scintillations
DTSTART;VALUE=DATE-TIME:20190529T083000Z
DTEND;VALUE=DATE-TIME:20190529T100000Z
DTSTAMP;VALUE=DATE-TIME:20240229T222407Z
UID:indico-contribution-49@ictp.it
DESCRIPTION:Speakers: K. GROVES (BC\, USA)\n//indico.ictp.it/event/8686/se
 ssion/11/contribution/49
LOCATION:ICTP Adriatico Guest House - Giambiagi Lecture Hall
URL://indico.ictp.it/event/8686/session/11/contribution/49
END:VEVENT
END:VCALENDAR
