BEGIN:VCALENDAR
VERSION:2.0
PRODID:-//CERN//INDICO//EN
BEGIN:VEVENT
SUMMARY:The potential of COSMIC radio occultation TEC to supplement ground
 -based GNSS TEC over African region
DTSTART;VALUE=DATE-TIME:20190530T122000Z
DTEND;VALUE=DATE-TIME:20190530T124000Z
DTSTAMP;VALUE=DATE-TIME:20240229T222451Z
UID:indico-contribution-56@ictp.it
DESCRIPTION:Speakers: P. MUNGUFENI (Mbarara University of Science and Tech
 nology\, Uganda)\n//indico.ictp.it/event/8686/session/13/contribution/56
LOCATION:ICTP Adriatico Guest House - Giambiagi Lecture Hall
URL://indico.ictp.it/event/8686/session/13/contribution/56
END:VEVENT
END:VCALENDAR
