BEGIN:VCALENDAR
VERSION:2.0
PRODID:-//CERN//INDICO//EN
BEGIN:VEVENT
SUMMARY:The role of the phase of QBO in modulating the influence of the SS
 W on the equatorial ionosphere
DTSTART;VALUE=DATE-TIME:20190531T072000Z
DTEND;VALUE=DATE-TIME:20190531T074000Z
DTSTAMP;VALUE=DATE-TIME:20240229T222433Z
UID:indico-contribution-66@ictp.it
DESCRIPTION:Speakers: S. YADAV ET AL (Vikram Sarabhai Space Center\, India
 )\n//indico.ictp.it/event/8686/session/15/contribution/66
LOCATION:ICTP Adriatico Guest House - Giambiagi Lecture Hall
URL://indico.ictp.it/event/8686/session/15/contribution/66
END:VEVENT
END:VCALENDAR
