BEGIN:VCALENDAR
VERSION:2.0
PRODID:-//CERN//INDICO//EN
BEGIN:VEVENT
SUMMARY:Atmospheric-Ionospheric coupling as a source of ionospheric variab
 ility: Challenges for GNSS operations
DTSTART;VALUE=DATE-TIME:20190531T083000Z
DTEND;VALUE=DATE-TIME:20190531T085000Z
DTSTAMP;VALUE=DATE-TIME:20240229T222416Z
UID:indico-contribution-68@ictp.it
DESCRIPTION:Speakers: S. SRIPATHI ET AL (Indian Institute of Geomagnetism\
 , India)\n//indico.ictp.it/event/8686/session/15/contribution/68
LOCATION:ICTP Adriatico Guest House - Giambiagi Lecture Hall
URL://indico.ictp.it/event/8686/session/15/contribution/68
END:VEVENT
END:VCALENDAR
