BEGIN:VCALENDAR
VERSION:2.0
PRODID:-//CERN//INDICO//EN
BEGIN:VEVENT
SUMMARY:Total electron content and Scintillations over Maseno\, Kenya duri
 ng high solar activity year
DTSTART;VALUE=DATE-TIME:20190531T085000Z
DTEND;VALUE=DATE-TIME:20190531T091000Z
DTSTAMP;VALUE=DATE-TIME:20240229T222505Z
UID:indico-contribution-69@ictp.it
DESCRIPTION:Speakers: E. G. OMONDI (Maseno University\, Kenya)\n//indico.i
 ctp.it/event/8686/session/15/contribution/69
LOCATION:ICTP Adriatico Guest House - Giambiagi Lecture Hall
URL://indico.ictp.it/event/8686/session/15/contribution/69
END:VEVENT
END:VCALENDAR
