BEGIN:VCALENDAR
VERSION:2.0
PRODID:-//CERN//INDICO//EN
BEGIN:VEVENT
SUMMARY:Turbulent ionosphere parameters inversion : use of SAGAIE to study
  scintillation in equatorial region
DTSTART;VALUE=DATE-TIME:20190530T120000Z
DTEND;VALUE=DATE-TIME:20190530T122000Z
DTSTAMP;VALUE=DATE-TIME:20240229T222436Z
UID:indico-contribution-74@ictp.it
DESCRIPTION:Speakers: A. GALMICHE (Thales Alenia Space\, France)\n//indico
 .ictp.it/event/8686/session/13/contribution/74
LOCATION:ICTP Adriatico Guest House - Giambiagi Lecture Hall
URL://indico.ictp.it/event/8686/session/13/contribution/74
END:VEVENT
END:VCALENDAR
