BEGIN:VCALENDAR
VERSION:2.0
PRODID:-//CERN//INDICO//EN
BEGIN:VEVENT
SUMMARY:Impacts of some Solar events on Ionosphere and Earth’s magnetic 
 field
DTSTART;VALUE=DATE-TIME:20190528T070000Z
DTEND;VALUE=DATE-TIME:20190528T080000Z
DTSTAMP;VALUE=DATE-TIME:20240229T222328Z
UID:indico-contribution-9-0-39@ictp.it
DESCRIPTION:Speakers: C. AMORY-MAZAUDIER (Sorbonne University\, France/ICT
 P\, Italy)\n//indico.ictp.it/event/8686/session/9/contribution/39
LOCATION:ICTP Adriatico Guest House - Giambiagi Lecture Hall
URL://indico.ictp.it/event/8686/session/9/contribution/39
END:VEVENT
BEGIN:VEVENT
SUMMARY:Impacts of some Solar events on Ionosphere and Earth’s magnetic 
 field
DTSTART;VALUE=DATE-TIME:20190528T083000Z
DTEND;VALUE=DATE-TIME:20190528T100000Z
DTSTAMP;VALUE=DATE-TIME:20240229T222328Z
UID:indico-contribution-9-0-40@ictp.it
DESCRIPTION:Speakers: C. AMORY-MAZAUDIER (Sorbonne University\, France/ICT
 P\, Italy)\n//indico.ictp.it/event/8686/session/9/contribution/40
LOCATION:ICTP Adriatico Guest House - Giambiagi Lecture Hall
URL://indico.ictp.it/event/8686/session/9/contribution/40
END:VEVENT
BEGIN:VEVENT
SUMMARY:Ionospheric effects on GNSS operations
DTSTART;VALUE=DATE-TIME:20190528T120000Z
DTEND;VALUE=DATE-TIME:20190528T130000Z
DTSTAMP;VALUE=DATE-TIME:20240229T222328Z
UID:indico-contribution-9-0-41@ictp.it
DESCRIPTION:Speakers: B. ARBESSER-RASTBURG (Institute of Navigation\, Aust
 ria)\n//indico.ictp.it/event/8686/session/9/contribution/41
LOCATION:ICTP Adriatico Guest House - Giambiagi Lecture Hall
URL://indico.ictp.it/event/8686/session/9/contribution/41
END:VEVENT
END:VCALENDAR
