BEGIN:VCALENDAR
VERSION:2.0
PRODID:-//CERN//INDICO//EN
BEGIN:VEVENT
SUMMARY:Practical Demonstration 2: Use of handheld XRF analyser for inspec
 tion of metal objects
DTSTART;VALUE=DATE-TIME:20190605T120000Z
DTEND;VALUE=DATE-TIME:20190605T133000Z
DTSTAMP;VALUE=DATE-TIME:20240229T222050Z
UID:indico-contribution-14@ictp.it
DESCRIPTION:Speakers: KARYDAS\, A. (NCSR Demokritos)\, MIGLIORI\, A. (IAEA
 )\n//indico.ictp.it/event/8689/session/2/contribution/14
LOCATION:ICTP MLab
URL://indico.ictp.it/event/8689/session/2/contribution/14
END:VEVENT
END:VCALENDAR
